
BEGIN:VCALENDAR
VERSION:2.0
PRODID:-//MarkedsPartner AS//Umbraco CMS//NO
TIMEZONE-ID:Europe/Oslo
X-WR-TIMEZONE:Europe/Oslo


BEGIN:VEVENT
UID:e2a31273ee704ab9b7ef11b7e904c70d
URL:https://umbraco.naeringsforeningen.no/moeter/arkiv/konkurranseloven/
ORGANIZER;CN=Ola Normann:MAILTO:ola.normann@markedspartner.no
DTSTAMP:20240123T100000Z
DTSTART:20240123T100000Z
DTEND:20240123T112000Z
LAST-MODIFIED:20240123T141711Z
SUMMARY:DIGITALKONFERANSE: Dette må du vite om konkurranseloven
DESCRIPTION:I møtet vil Konkurransetilsynet gi en kort innføring i konkurranselovgivningens §10 om ulovlig samarbeid, hvordan det er mulig å tipse om ulovlig adferd og hva bedriftsledere bør vite om amnestiordningen i konkurranseloven.
X-ALT-DESC:I m&#248;tet vil Konkurransetilsynet gi en kort innf&#248;ring i konkurranselovgivningens &#167;10 om ulovlig samarbeid, hvordan det er mulig &#229; tipse om ulovlig adferd og hva bedriftsledere b&#248;r vite om amnestiordningen i konkurranseloven.
LOCATION:Webinar
END:VEVENT


END:VCALENDAR



