
BEGIN:VCALENDAR
VERSION:2.0
PRODID:-//MarkedsPartner AS//Umbraco CMS//NO
TIMEZONE-ID:Europe/Oslo
X-WR-TIMEZONE:Europe/Oslo


BEGIN:VEVENT
UID:1f74662833f54a909e7155d46aec86c0
URL:https://umbraco.naeringsforeningen.no/moeter/arkiv/konferanse-sentrumsutvikling_060522/
ORGANIZER;CN=Ola Normann:MAILTO:ola.normann@markedspartner.no
DTSTAMP:20220506T063000Z
DTSTART:20220506T063000Z
DTEND:20220506T093000Z
LAST-MODIFIED:20221031T121419Z
SUMMARY:Levende sentrumsområder!
DESCRIPTION:Livskvalitet, bærekraft og byutvikling henger sammen og påvirker hverdagen vår, mener den profilerte arkitekten Alexandria Algard. På denne konferansen vil hun presentere sitt syn på hvordan vi gjør by- og kommunesentrene i Stavanger-regionen attraktive for innbyggere og næringsliv. I tillegg får vi besøk av fagsjef for Virke Handel, Morten Sandberg, som vil gi sine betraktninger om handel og sentrumsutvikling.
X-ALT-DESC:Livskvalitet, b&#230;rekraft og byutvikling henger sammen og p&#229;virker hverdagen v&#229;r, mener den profilerte arkitekten Alexandria Algard. P&#229; denne konferansen vil hun presentere sitt syn p&#229; hvordan vi gj&#248;r by- og kommunesentrene i Stavanger-regionen attraktive for innbyggere og n&#230;ringsliv. I tillegg f&#229;r vi bes&#248;k av fagsjef for Virke Handel, Morten Sandberg, som vil gi sine betraktninger om handel og sentrumsutvikling.
LOCATION:Rosenkildehuset, Strandkaien 6, Stavanger
END:VEVENT


END:VCALENDAR



