
BEGIN:VCALENDAR
VERSION:2.0
PRODID:-//MarkedsPartner AS//Umbraco CMS//NO
TIMEZONE-ID:Europe/Oslo
X-WR-TIMEZONE:Europe/Oslo


BEGIN:VEVENT
UID:b881336214814cad88ea71cdc1e88c9e
URL:https://umbraco.naeringsforeningen.no/moeter/arkiv/kn-festival-2025/
ORGANIZER;CN=Ola Normann:MAILTO:ola.normann@markedspartner.no
DTSTAMP:20250319T113000Z
DTSTART:20250319T113000Z
DTEND:20250319T190000Z
LAST-MODIFIED:20250326T141357Z
SUMMARY:Hacks to the Futures med James Goodwin: Lede med hjernen i en kompleks KI-verden
DESCRIPTION:Han er rådgiver for Samsung, FN, WHO og Unilever og har publisert noen av de mest leste vitenskapelige artiklene i verden i 2024. Nå kommer hjerneforsker James Goodwin til Stavanger for å fortelle deg og din bedrift hvordan dere må tenke for å vinne i en stadig mer komplisert verden – dominert av KI. Ikke gå glipp av anledningen når «Hacks to the Futures» bringer verden til Stavanger. Du får høre futurist Nicklas Larsen, framtidsarkitekt Tsuyoshi Tane, gründer og generalsekretær Niloufar Gharavi og mange flere.
X-ALT-DESC:Han er r&#229;dgiver for Samsung, FN, WHO og Unilever og har publisert noen av de mest leste vitenskapelige artiklene i verden i 2024. N&#229; kommer hjerneforsker James Goodwin til Stavanger for &#229; fortelle deg og din bedrift hvordan dere m&#229; tenke for &#229; vinne i en stadig mer komplisert verden – dominert av KI. Ikke g&#229; glipp av anledningen n&#229;r &#171;Hacks to the Futures&#187; bringer verden til Stavanger. Du f&#229;r h&#248;re futurist Nicklas Larsen, framtidsarkitekt Tsuyoshi Tane, gr&#252;nder og generalsekret&#230;r Niloufar Gharavi og mange flere.
LOCATION:Innoasis (Sverdrupsgate 27, Stavanger)
END:VEVENT


END:VCALENDAR



