
BEGIN:VCALENDAR
VERSION:2.0
PRODID:-//MarkedsPartner AS//Umbraco CMS//NO
TIMEZONE-ID:Europe/Oslo
X-WR-TIMEZONE:Europe/Oslo


BEGIN:VEVENT
UID:01b64b233e2844c2b2001038517ddd6a
URL:https://umbraco.naeringsforeningen.no/moeter/arkiv/klyngekonferanse-bygg-og-anlegg-141021/
ORGANIZER;CN=Ola Normann:MAILTO:ola.normann@markedspartner.no
DTSTAMP:20211118T100000Z
DTSTART:20211118T100000Z
DTEND:20211118T140000Z
LAST-MODIFIED:20221031T123045Z
SUMMARY:Gjennom samarbeid kan byggebransjen bli bedre
DESCRIPTION:Byggebransjen står midt i et stort skifte. Kravene om å være en del av løsningen på bærekrafts-utfordringen er tydelige. Bransjen opplever samtidig at teknologiutviklingen røsker i gamle løsninger og arbeidsformer. Vi samle sentrale aktører i byggebransjen i Stavanger-regionen og belyser hvordan bærekrafts- og innovasjonsutfordringer kan løses gjennom mer aktive samarbeid og bedre møteplasser. Torgeir Reve fra BI, Tom Fidjeland fra Node, Stig Frode Opsvik fra Proptech Innovation og Benedicte Thu Nørgaard Økland fra Construction City er blant innlederne.
X-ALT-DESC:Byggebransjen st&#229;r midt i et stort skifte. Kravene om &#229; v&#230;re en del av l&#248;sningen p&#229; b&#230;rekrafts-utfordringen er tydelige. Bransjen opplever samtidig at teknologiutviklingen r&#248;sker i gamle l&#248;sninger og arbeidsformer. Vi samle sentrale akt&#248;rer i byggebransjen i Stavanger-regionen og belyser hvordan b&#230;rekrafts- og innovasjonsutfordringer kan l&#248;ses gjennom mer aktive samarbeid og bedre m&#248;teplasser. Torgeir Reve fra BI, Tom Fidjeland fra Node, Stig Frode Opsvik fra Proptech Innovation og Benedicte Thu N&#248;rgaard &#216;kland fra Construction City er blant innlederne.
LOCATION:Rosenkildehuset
END:VEVENT


END:VCALENDAR



