
BEGIN:VCALENDAR
VERSION:2.0
PRODID:-//MarkedsPartner AS//Umbraco CMS//NO
TIMEZONE-ID:Europe/Oslo
X-WR-TIMEZONE:Europe/Oslo


BEGIN:VEVENT
UID:c1fc4da8549b4292a108c822b0a37754
URL:https://umbraco.naeringsforeningen.no/moeter/arkiv/klar-kommunikasjon/
ORGANIZER;CN=Ola Normann:MAILTO:ola.normann@markedspartner.no
DTSTAMP:20250513T100000Z
DTSTART:20250513T100000Z
DTEND:20250513T120000Z
LAST-MODIFIED:20250514T062350Z
SUMMARY:Bli en mester i kommunikasjon: Slik sikrer du salget
DESCRIPTION:Hva skiller en god selger fra en virkelig god selger? Ofte er det ikke produktet, det er samtalen. Forskjellen mellom et «la meg tenke» og et «ja» ligger i hvordan samtalen åpnes, styres og avsluttes. I dette møtet får du metoder og samtalestruktur for enklere closing.
X-ALT-DESC:Hva skiller en god selger fra en virkelig god selger? Ofte er det ikke produktet, det er samtalen. Forskjellen mellom et &#171;la meg tenke&#187; og et &#171;ja&#187; ligger i hvordan samtalen &#229;pnes, styres og avsluttes. I dette m&#248;tet f&#229;r du metoder og samtalestruktur for enklere closing.
LOCATION:Rosenkildehuset
END:VEVENT


END:VCALENDAR



