
BEGIN:VCALENDAR
VERSION:2.0
PRODID:-//MarkedsPartner AS//Umbraco CMS//NO
TIMEZONE-ID:Europe/Oslo
X-WR-TIMEZONE:Europe/Oslo


BEGIN:VEVENT
UID:6d41a2b465bf419a869949a2ad1f4e72
URL:https://umbraco.naeringsforeningen.no/moeter/arkiv/kickoff_styrekandidatene/
ORGANIZER;CN=Ola Normann:MAILTO:ola.normann@markedspartner.no
DTSTAMP:20221124T180000Z
DTSTART:20221124T180000Z
DTEND:20221124T200000Z
LAST-MODIFIED:20221128T075057Z
SUMMARY:Kick off Styrekandidatene 2023
DESCRIPTION:Er du under 37 år og ønsker styreerfaring? Da er Styrekandidatene noe for deg.
X-ALT-DESC:Er du under 37 &#229;r og &#248;nsker styreerfaring? Da er Styrekandidatene noe for deg.
LOCATION:DNB Arena, Telia lounge
END:VEVENT


END:VCALENDAR



