
BEGIN:VCALENDAR
VERSION:2.0
PRODID:-//MarkedsPartner AS//Umbraco CMS//NO
TIMEZONE-ID:Europe/Oslo
X-WR-TIMEZONE:Europe/Oslo


BEGIN:VEVENT
UID:90de8a5deade45aa97840551f70e6935
URL:https://umbraco.naeringsforeningen.no/moeter/arkiv/kickoff-trainee-soervest-2022/
ORGANIZER;CN=Ola Normann:MAILTO:ola.normann@markedspartner.no
DTSTAMP:20220818T080000Z
DTSTART:20220818T080000Z
DTEND:20220818T130000Z
LAST-MODIFIED:20220819T093105Z
SUMMARY:Trainee Sørvest 2022 - Kickoff + mentorsamling 
DESCRIPTION:Velkommen til kickoff og første mentorsamling for Trainee Sørvest - Kull 2022!
X-ALT-DESC:Velkommen til kickoff og f&#248;rste mentorsamling for Trainee S&#248;rvest - Kull 2022!
LOCATION:Rosenkildehuset
END:VEVENT


END:VCALENDAR



