
BEGIN:VCALENDAR
VERSION:2.0
PRODID:-//MarkedsPartner AS//Umbraco CMS//NO
TIMEZONE-ID:Europe/Oslo
X-WR-TIMEZONE:Europe/Oslo


BEGIN:VEVENT
UID:02724800115f4291883a03940e0c0246
URL:https://umbraco.naeringsforeningen.no/moeter/arkiv/kickoff-for-mentorprogrammet-muligheter-rogaland/
ORGANIZER;CN=Ola Normann:MAILTO:ola.normann@markedspartner.no
DTSTAMP:20221115T110000Z
DTSTART:20221115T110000Z
DTEND:20221115T150000Z
LAST-MODIFIED:20221116T064504Z
SUMMARY:Kickoff for Mentorprogrammet - Muligheter Rogaland
DESCRIPTION:Mentorprogrammet – Muligheter Rogaland er et samarbeid mellom Næringsforeningen, Rogaland fylkeskommune og Stavanger kommune.
X-ALT-DESC:Mentorprogrammet – Muligheter Rogaland er et samarbeid mellom N&#230;ringsforeningen, Rogaland fylkeskommune og Stavanger kommune.
LOCATION:Rosenkildehuset
END:VEVENT


END:VCALENDAR



