
BEGIN:VCALENDAR
VERSION:2.0
PRODID:-//MarkedsPartner AS//Umbraco CMS//NO
TIMEZONE-ID:Europe/Oslo
X-WR-TIMEZONE:Europe/Oslo


BEGIN:VEVENT
UID:0053ec5f92424c46841b1ab0d8887eb5
URL:https://umbraco.naeringsforeningen.no/moeter/arkiv/kick-off_styrekandidatene041121/
ORGANIZER;CN=Ola Normann:MAILTO:ola.normann@markedspartner.no
DTSTAMP:20211111T180000Z
DTSTART:20211111T180000Z
DTEND:20211111T200000Z
LAST-MODIFIED:20221031T122936Z
SUMMARY:Kick off - Styrekandidatene 2021
DESCRIPTION:Er du under 37 år, engasjert og interessert i styrearbeid? Da er Styrekandidatene noe for deg!
X-ALT-DESC:Er du under 37 &#229;r, engasjert og interessert i styrearbeid? Da er Styrekandidatene noe for deg!
LOCATION:Innovation Dock, Stavanger
END:VEVENT


END:VCALENDAR



