
BEGIN:VCALENDAR
VERSION:2.0
PRODID:-//MarkedsPartner AS//Umbraco CMS//NO
TIMEZONE-ID:Europe/Oslo
X-WR-TIMEZONE:Europe/Oslo


BEGIN:VEVENT
UID:26d0b66665904555883d7796c409d79f
URL:https://umbraco.naeringsforeningen.no/moeter/arkiv/kick-off-styrekandidatene-24/
ORGANIZER;CN=Ola Normann:MAILTO:ola.normann@markedspartner.no
DTSTAMP:20241113T173000Z
DTSTART:20241113T173000Z
DTEND:20241113T200000Z
LAST-MODIFIED:20241114T072743Z
SUMMARY:Kick-off Styrekandidatene 2025
DESCRIPTION:Er du under 37 år og ønsker styreerfaring? Da er Styrekandidatene noe for deg.
X-ALT-DESC:Er du under 37 &#229;r og &#248;nsker styreerfaring? Da er Styrekandidatene noe for deg.
LOCATION:Rosenkildehuset
END:VEVENT


END:VCALENDAR



