
BEGIN:VCALENDAR
VERSION:2.0
PRODID:-//MarkedsPartner AS//Umbraco CMS//NO
TIMEZONE-ID:Europe/Oslo
X-WR-TIMEZONE:Europe/Oslo


BEGIN:VEVENT
UID:ced7667fe99846ada140391ebed31b1b
URL:https://umbraco.naeringsforeningen.no/moeter/arkiv/kick-off-styrekandidatene-2020/
ORGANIZER;CN=Ola Normann:MAILTO:ola.normann@markedspartner.no
DTSTAMP:20200206T180000Z
DTSTART:20200206T180000Z
DTEND:20200206T210000Z
LAST-MODIFIED:20221031T115921Z
SUMMARY:Kick off Styrekandidatene 2020
DESCRIPTION:Er du under 37 år, engasjert og interessert i styrearbeid? Da er Styrekandidatene noe for deg.
X-ALT-DESC:Er du under 37 &#229;r, engasjert og interessert i styrearbeid? Da er Styrekandidatene noe for deg.
LOCATION: L&#248;kkeveien 111, Kvistn
END:VEVENT


END:VCALENDAR



