
BEGIN:VCALENDAR
VERSION:2.0
PRODID:-//MarkedsPartner AS//Umbraco CMS//NO
TIMEZONE-ID:Europe/Oslo
X-WR-TIMEZONE:Europe/Oslo


BEGIN:VEVENT
UID:2cbf5ea5496049e2bdc61e3069e33751
URL:https://umbraco.naeringsforeningen.no/moeter/arkiv/kick-off-byjubileet/
ORGANIZER;CN=Ola Normann:MAILTO:ola.normann@markedspartner.no
DTSTAMP:20231114T070000Z
DTSTART:20231114T070000Z
DTEND:20231114T090000Z
LAST-MODIFIED:20231114T130652Z
SUMMARY:Kultur = attraktivitet: Kick-off for Stavanger 2025
DESCRIPTION:Kan store kulturbegivenheter bidra til en attraktiv næringsregion? Stavanger skal feire 900 år og vil ha med hele regionen. Stavanger 2025 og Næringsforeningen inviterer til frokostmøte med jubileumsvri!
X-ALT-DESC:Kan store kulturbegivenheter bidra til en attraktiv n&#230;ringsregion? Stavanger skal feire 900 &#229;r og vil ha med hele regionen. Stavanger 2025 og N&#230;ringsforeningen inviterer til frokostm&#248;te med jubileumsvri!
LOCATION:Rosenkildehuset
END:VEVENT


END:VCALENDAR



