
BEGIN:VCALENDAR
VERSION:2.0
PRODID:-//MarkedsPartner AS//Umbraco CMS//NO
TIMEZONE-ID:Europe/Oslo
X-WR-TIMEZONE:Europe/Oslo


BEGIN:VEVENT
UID:fefa0a16867f4f6aa0602c6321e5c3ad
URL:https://umbraco.naeringsforeningen.no/moeter/arkiv/julemoete-i-teatret-2024/
ORGANIZER;CN=Ola Normann:MAILTO:ola.normann@markedspartner.no
DTSTAMP:20241213T100000Z
DTSTART:20241213T100000Z
DTEND:20241213T125000Z
LAST-MODIFIED:20241216T073241Z
SUMMARY:Julemøte i Teateret 2024
DESCRIPTION:Kom i julestemning med filosof Henrik Syse og få den vanlige årsoppsummeringen av Harald Minge og pianist Jan Hauge! Vi ønsker velkommen til det tradisjonelle julemøtet i Rogaland Teater. I tillegg får du prisutdeling, fine premier til de som får nøtten i grøten og nydelig kunstnerisk innslag ved teateret.
X-ALT-DESC:Kom i julestemning med filosof Henrik Syse og f&#229; den vanlige &#229;rsoppsummeringen av Harald Minge og pianist Jan Hauge! Vi &#248;nsker velkommen til det tradisjonelle julem&#248;tet i Rogaland Teater. I tillegg f&#229;r du prisutdeling, fine premier til de som f&#229;r n&#248;tten i gr&#248;ten og nydelig kunstnerisk innslag ved teateret.
LOCATION:Rogaland Teater
END:VEVENT


END:VCALENDAR



