
BEGIN:VCALENDAR
VERSION:2.0
PRODID:-//MarkedsPartner AS//Umbraco CMS//NO
TIMEZONE-ID:Europe/Oslo
X-WR-TIMEZONE:Europe/Oslo


BEGIN:VEVENT
UID:60ab5ed23bae45288008d0f989b1829a
URL:https://umbraco.naeringsforeningen.no/moeter/arkiv/julemoete-i-teatret-2023/
ORGANIZER;CN=Ola Normann:MAILTO:ola.normann@markedspartner.no
DTSTAMP:20231215T100000Z
DTSTART:20231215T100000Z
DTEND:20231215T124500Z
LAST-MODIFIED:20231216T174421Z
SUMMARY:Julemøte i Teatret 2023
DESCRIPTION:På årets tradisjonsrike julemøte i Rogaland Teater får vi i år besøk av en rekke fine mennesker. Det blir perspektiver på situasjonen i vår region og i verden ved Kai Eide, prisutdeling, kunstnerisk innslag og ekte julestemning. Bli med på årets julemøte!
X-ALT-DESC:P&#229; &#229;rets tradisjonsrike julem&#248;te i Rogaland Teater f&#229;r vi i &#229;r bes&#248;k av en rekke fine mennesker. Det blir perspektiver p&#229; situasjonen i v&#229;r region og i verden ved Kai Eide, prisutdeling, kunstnerisk innslag og ekte julestemning. Bli med p&#229; &#229;rets julem&#248;te!
LOCATION:Rogaland Teater
END:VEVENT


END:VCALENDAR



