
BEGIN:VCALENDAR
VERSION:2.0
PRODID:-//MarkedsPartner AS//Umbraco CMS//NO
TIMEZONE-ID:Europe/Oslo
X-WR-TIMEZONE:Europe/Oslo


BEGIN:VEVENT
UID:a32b6c05af3d42278be7182f2d3f01a4
URL:https://umbraco.naeringsforeningen.no/moeter/arkiv/julemoete-i-teatret-2022/
ORGANIZER;CN=Ola Normann:MAILTO:ola.normann@markedspartner.no
DTSTAMP:20221216T100000Z
DTSTART:20221216T100000Z
DTEND:20221216T124500Z
LAST-MODIFIED:20221216T145221Z
SUMMARY:Julemøte i Teateret 2022
DESCRIPTION:På årets tradisjonsrike julemøte i Rogaland Teater får vi i år besøk av en rekke fine mennesker. Det blir perspektiver på situasjonen i Europa, julestandup, prisutdeling, musikalsk session og ekte julestemning. Bli med på årets julemøte!
X-ALT-DESC:P&#229; &#229;rets tradisjonsrike julem&#248;te i Rogaland Teater f&#229;r vi i &#229;r bes&#248;k av en rekke fine mennesker. Det blir perspektiver p&#229; situasjonen i Europa, julestandup, prisutdeling, musikalsk session og ekte julestemning. Bli med p&#229; &#229;rets julem&#248;te!
LOCATION:Rogaland Teater
END:VEVENT


END:VCALENDAR



