
BEGIN:VCALENDAR
VERSION:2.0
PRODID:-//MarkedsPartner AS//Umbraco CMS//NO
TIMEZONE-ID:Europe/Oslo
X-WR-TIMEZONE:Europe/Oslo


BEGIN:VEVENT
UID:c0a07b01df844cb4a55d8e0711a89905
URL:https://umbraco.naeringsforeningen.no/moeter/arkiv/julemoete-i-teatret-2021/
ORGANIZER;CN=Ola Normann:MAILTO:ola.normann@markedspartner.no
DTSTAMP:20211210T100000Z
DTSTART:20211210T100000Z
DTEND:20211210T123000Z
LAST-MODIFIED:20221031T123329Z
SUMMARY:Julemøte i Teatret 2021 (AVLYST)
DESCRIPTION:På årets tradisjonsrike julemøte i Rogaland Teater får vi i år besøk av en rekke fine mennesker. Det blir julestandup med Yummymummy, prisutdeling, musikalsk session med Espen Hana og ekte julestemning. Bli med på årets julemøte!
X-ALT-DESC:P&#229; &#229;rets tradisjonsrike julem&#248;te i Rogaland Teater f&#229;r vi i &#229;r bes&#248;k av en rekke fine mennesker. Det blir julestandup med Yummymummy, prisutdeling, musikalsk session med Espen Hana og ekte julestemning. Bli med p&#229; &#229;rets julem&#248;te!
LOCATION:Rogaland Teater
END:VEVENT


END:VCALENDAR



