
BEGIN:VCALENDAR
VERSION:2.0
PRODID:-//MarkedsPartner AS//Umbraco CMS//NO
TIMEZONE-ID:Europe/Oslo
X-WR-TIMEZONE:Europe/Oslo


BEGIN:VEVENT
UID:0a6e6a32d998452a999dde8ed05865ff
URL:https://umbraco.naeringsforeningen.no/moeter/arkiv/julemoete-2019-i-teatret/
ORGANIZER;CN=Ola Normann:MAILTO:ola.normann@markedspartner.no
DTSTAMP:20191213T100000Z
DTSTART:20191213T100000Z
DTEND:20191213T130000Z
LAST-MODIFIED:20221031T115739Z
SUMMARY:Julemøte i Teatret
DESCRIPTION:Noen mener det ikke blir jul uten. Andre elsker julegrøten. Alt vi vet er at på årets tradisjonsrike julemøte i Rogaland Teater får vi i år besøk av tidligere Hydro-sjef og statsråd Eivind Reiten, Glenn André Kaada og Elin Skogen, det blir prisutdeling, innslag fra Rogaland Teater og ekte julestemning. Bli med på årets julemøte i teatret.
X-ALT-DESC:Noen mener det ikke blir jul uten. Andre elsker julegr&#248;ten. Alt vi vet er at p&#229; &#229;rets tradisjonsrike julem&#248;te i Rogaland Teater f&#229;r vi i &#229;r bes&#248;k av tidligere Hydro-sjef og statsr&#229;d Eivind Reiten, Glenn Andr&#233; Kaada&#160;og Elin Skogen, det blir prisutdeling, innslag fra Rogaland Teater og ekte julestemning. Bli med p&#229; &#229;rets julem&#248;te i teatret.
LOCATION:Rogaland Teater
END:VEVENT


END:VCALENDAR



