
BEGIN:VCALENDAR
VERSION:2.0
PRODID:-//MarkedsPartner AS//Umbraco CMS//NO
TIMEZONE-ID:Europe/Oslo
X-WR-TIMEZONE:Europe/Oslo


BEGIN:VEVENT
UID:c8ad5d1f62684cb4a862dc7e476f0c50
URL:https://umbraco.naeringsforeningen.no/moeter/arkiv/jaermoetet_kun-konferanse/
ORGANIZER;CN=Ola Normann:MAILTO:ola.normann@markedspartner.no
DTSTAMP:20220324T110000Z
DTSTART:20220324T110000Z
DTEND:20220324T170000Z
LAST-MODIFIED:20221031T122631Z
SUMMARY:Jærmøtet – KUN KONFERANSE
DESCRIPTION:Jærmøtet er Næringsforeningens nye storsatsing.
X-ALT-DESC:J&#230;rm&#248;tet er N&#230;ringsforeningens nye storsatsing.
LOCATION:Storstova Bryne
END:VEVENT


END:VCALENDAR



