
BEGIN:VCALENDAR
VERSION:2.0
PRODID:-//MarkedsPartner AS//Umbraco CMS//NO
TIMEZONE-ID:Europe/Oslo
X-WR-TIMEZONE:Europe/Oslo


BEGIN:VEVENT
UID:8b42a16c4ff64172bfa350242fcaa544
URL:https://umbraco.naeringsforeningen.no/moeter/arkiv/jaermoetet_200325/
ORGANIZER;CN=Ola Normann:MAILTO:ola.normann@markedspartner.no
DTSTAMP:20250320T110000Z
DTSTART:20250320T110000Z
DTEND:20250320T220000Z
LAST-MODIFIED:20250321T093151Z
SUMMARY:Jærmøtet 2025 – Konferanse og festkveld
DESCRIPTION:Lytt til mormor, slakt de hellige kuene og behold kontakten med kundene! Styreleder i IKEA, Lars-Johan Jarnheimer, kommer til Jærmøtet for å gi deg oppskriften på fremragende lederskap. Med seg har han Roger Finjord, Thorir Hergeirsson og en rekke ledere og politikere som skal sørge for at taket løfter seg i Storstova. Og så møtes vi som vanlig i teltet etterpå.
X-ALT-DESC:Lytt til mormor, slakt de hellige kuene og behold kontakten med kundene! Styreleder i IKEA, Lars-Johan Jarnheimer, kommer til J&#230;rm&#248;tet for &#229; gi deg oppskriften p&#229; fremragende lederskap. Med seg har han Roger Finjord, Thorir Hergeirsson og en rekke ledere og politikere som skal s&#248;rge for at taket l&#248;fter seg i Storstova. Og s&#229; m&#248;tes vi som vanlig i teltet etterp&#229;.
LOCATION:Storstova, Bryne
END:VEVENT


END:VCALENDAR



