
BEGIN:VCALENDAR
VERSION:2.0
PRODID:-//MarkedsPartner AS//Umbraco CMS//NO
TIMEZONE-ID:Europe/Oslo
X-WR-TIMEZONE:Europe/Oslo


BEGIN:VEVENT
UID:b7b03ea0fdc74ca1ba9c8f008c0edc3c
URL:https://umbraco.naeringsforeningen.no/moeter/arkiv/jaermoetet2023_230323/
ORGANIZER;CN=Ola Normann:MAILTO:ola.normann@markedspartner.no
DTSTAMP:20230323T110000Z
DTSTART:20230323T110000Z
DTEND:20230323T210000Z
LAST-MODIFIED:20250506T104617Z
SUMMARY:Jærmøtet – konferanse og festkveld
DESCRIPTION:Vi gjentar fjorårets suksess med å fylle Storstova på Bryne, etterfulgt av det jærske næringslivets festkveld i teltet utenfor Rådhuset. På scenen vil du blant annet høre fra Are Kalvø og næringsminister Jan Christian Vestre.
X-ALT-DESC:Vi gjentar fjor&#229;rets suksess med &#229; fylle Storstova p&#229; Bryne, etterfulgt av det j&#230;rske n&#230;ringslivets festkveld i teltet utenfor R&#229;dhuset. P&#229; scenen vil du blant annet h&#248;re fra Are Kalv&#248; og n&#230;ringsminister Jan Christian Vestre.
LOCATION:Storstova Bryne
END:VEVENT


END:VCALENDAR



