
BEGIN:VCALENDAR
VERSION:2.0
PRODID:-//MarkedsPartner AS//Umbraco CMS//NO
TIMEZONE-ID:Europe/Oslo
X-WR-TIMEZONE:Europe/Oslo


BEGIN:VEVENT
UID:1a821b7bc40f459cbe9d56eb49256231
URL:https://umbraco.naeringsforeningen.no/moeter/arkiv/jaermoetet-konferanse_230323/
ORGANIZER;CN=Ola Normann:MAILTO:ola.normann@markedspartner.no
DTSTAMP:20230323T110000Z
DTSTART:20230323T110000Z
DTEND:20230323T170000Z
LAST-MODIFIED:20250506T104602Z
SUMMARY:Jærmøtet - KUN KONFERANSE
DESCRIPTION:Vi gjentar fjorårets suksess med å fylle Storstova på Bryne. På scenen vil du blant annet høre fra Are Kalvø og næringsminister Jan Christian Vestre.
X-ALT-DESC:Vi gjentar fjor&#229;rets suksess med &#229; fylle Storstova p&#229; Bryne. P&#229; scenen vil du blant annet h&#248;re fra Are Kalv&#248; og n&#230;ringsminister Jan Christian Vestre.
LOCATION:Storstova Bryne
END:VEVENT


END:VCALENDAR



