
BEGIN:VCALENDAR
VERSION:2.0
PRODID:-//MarkedsPartner AS//Umbraco CMS//NO
TIMEZONE-ID:Europe/Oslo
X-WR-TIMEZONE:Europe/Oslo


BEGIN:VEVENT
UID:dd371efe58674223a054cbb0b152e454
URL:https://umbraco.naeringsforeningen.no/moeter/arkiv/jaermoetet-2024_kun-konferanse/
ORGANIZER;CN=Ola Normann:MAILTO:ola.normann@markedspartner.no
DTSTAMP:20240314T110000Z
DTSTART:20240314T110000Z
DTEND:20240314T173000Z
LAST-MODIFIED:20240315T084230Z
SUMMARY:Jærmøtet 2024 – kun konferanse
DESCRIPTION:Årets mest etterlengtede begivenhet for næringslivet på Jæren er rett rundt hjørnet. I miksen av spennende foredragsholdere har vi med oss Jon Lærdal og Torkell Tveitevoll Eide. – Velkommen til årets Jærmøtet!
X-ALT-DESC:&#197;rets mest etterlengtede begivenhet for n&#230;ringslivet p&#229; J&#230;ren er rett rundt hj&#248;rnet. I miksen av spennende foredragsholdere har vi med oss Jon L&#230;rdal og Torkell Tveitevoll Eide. – Velkommen til &#229;rets J&#230;rm&#248;tet!
LOCATION:Storstova, Bryne
END:VEVENT


END:VCALENDAR



