
BEGIN:VCALENDAR
VERSION:2.0
PRODID:-//MarkedsPartner AS//Umbraco CMS//NO
TIMEZONE-ID:Europe/Oslo
X-WR-TIMEZONE:Europe/Oslo


BEGIN:VEVENT
UID:b7daa48440fd497a80790cd2352ebf99
URL:https://umbraco.naeringsforeningen.no/moeter/arkiv/jaerboersen_2020/
ORGANIZER;CN=Ola Normann:MAILTO:ola.normann@markedspartner.no
DTSTAMP:20201104T163000Z
DTSTART:20201104T163000Z
DTEND:20201104T200000Z
LAST-MODIFIED:20221031T114452Z
SUMMARY:Jærbørsen 2020
DESCRIPTION:Jærbørsen har blitt en tradisjon på Jæren. Her får du høre jærkommunenes kommende prosjekter og hvilke rammeavtaler som skal inngås. Vi får også høre om økonomiske utsikter og trender i utviklingen. Velkommen til Jærens store møteplass!
X-ALT-DESC:J&#230;rb&#248;rsen har blitt en tradisjon p&#229; J&#230;ren. Her f&#229;r du h&#248;re j&#230;rkommunenes kommende prosjekter og hvilke rammeavtaler som skal inng&#229;s. Vi f&#229;r ogs&#229; h&#248;re om &#248;konomiske utsikter og trender i utviklingen. Velkommen til J&#230;rens store m&#248;teplass!
LOCATION:Hotell J&#230;ren, Solh&#248;gda 3, 4340 Bryne
END:VEVENT


END:VCALENDAR



