
BEGIN:VCALENDAR
VERSION:2.0
PRODID:-//MarkedsPartner AS//Umbraco CMS//NO
TIMEZONE-ID:Europe/Oslo
X-WR-TIMEZONE:Europe/Oslo


BEGIN:VEVENT
UID:333c31dda9f54b9193826bff5be96d90
URL:https://umbraco.naeringsforeningen.no/moeter/arkiv/jaerboersen/
ORGANIZER;CN=Ola Normann:MAILTO:ola.normann@markedspartner.no
DTSTAMP:20191002T153000Z
DTSTART:20191002T153000Z
DTEND:20191002T190000Z
LAST-MODIFIED:20221031T113507Z
SUMMARY:Jærbørsen
DESCRIPTION:Jærbørsen har blitt en tradisjon på Jæren. Her får du høre Jær-kommunenes kommende prosjekter og hvilke rammeavtaler som skal inngås. Vi får også høre om økonomiske utsikter, og møte prosjektleder Fred Sherling i byggebransjens Uropatrulje. Velkommen til Jærens store møteplass.
X-ALT-DESC:J&#230;rb&#248;rsen har blitt en tradisjon p&#229; J&#230;ren. Her f&#229;r du h&#248;re J&#230;r-kommunenes kommende prosjekter og hvilke rammeavtaler som skal inng&#229;s. Vi f&#229;r ogs&#229; h&#248;re om &#248;konomiske utsikter, og m&#248;te prosjektleder Fred Sherling i byggebransjens Uropatrulje. Velkommen til J&#230;rens store m&#248;teplass.
LOCATION:H&#248;ghuset 18 etg. J&#230;ren
END:VEVENT


END:VCALENDAR



