
BEGIN:VCALENDAR
VERSION:2.0
PRODID:-//MarkedsPartner AS//Umbraco CMS//NO
TIMEZONE-ID:Europe/Oslo
X-WR-TIMEZONE:Europe/Oslo


BEGIN:VEVENT
UID:153644343a5d487ebe9a86b624f1eac1
URL:https://umbraco.naeringsforeningen.no/moeter/arkiv/jaerboersen-2025/
ORGANIZER;CN=Ola Normann:MAILTO:ola.normann@markedspartner.no
DTSTAMP:20250429T153000Z
DTSTART:20250429T153000Z
DTEND:20250429T190000Z
LAST-MODIFIED:20250430T070133Z
SUMMARY:Jærbørsen 2025: Hva skal bygges på Jæren?
DESCRIPTION:På Jærbørsen får du servert de store kommende prosjektene innen bygg og anlegg på Jæren. Vi har invitert Rogaland fylkeskommune i tillegg til kommunene Hå, Time og Klepp for å fortelle om kommende prosjekter og hvilke rammeavtaler som skal inngås. Velkommen til en aften som også inkluderer middag!
X-ALT-DESC:P&#229; J&#230;rb&#248;rsen f&#229;r du servert de store kommende prosjektene innen bygg og anlegg p&#229; J&#230;ren. Vi har invitert Rogaland fylkeskommune i tillegg til kommunene H&#229;, Time og Klepp for &#229; fortelle om kommende prosjekter og hvilke rammeavtaler som skal inng&#229;s. Velkommen til en aften som ogs&#229; inkluderer middag!
LOCATION:Bryne Kro og Hotell
END:VEVENT


END:VCALENDAR



