
BEGIN:VCALENDAR
VERSION:2.0
PRODID:-//MarkedsPartner AS//Umbraco CMS//NO
TIMEZONE-ID:Europe/Oslo
X-WR-TIMEZONE:Europe/Oslo


BEGIN:VEVENT
UID:c7d3a3e5ca6a44fc8183ab5a39cdedbc
URL:https://umbraco.naeringsforeningen.no/moeter/arkiv/it-sikkerhet_040620/
ORGANIZER;CN=Ola Normann:MAILTO:ola.normann@markedspartner.no
DTSTAMP:20200604T110000Z
DTSTART:20200604T110000Z
DTEND:20200604T120000Z
LAST-MODIFIED:20221031T121251Z
SUMMARY:IT sikkerhet: trender og trusler
DESCRIPTION:Kyrre Lindanger i Sør-Vest Politidistrikt og Tommy Bjørnøy i Upheads deler trender, trusler og  konkrete tips og løsninger til hvordan du selv kan jobbe med aktiv forebygging.
X-ALT-DESC:Kyrre Lindanger i S&#248;r-Vest Politidistrikt og&#160;Tommy Bj&#248;rn&#248;y i Upheads deler trender, trusler og  konkrete tips og l&#248;sninger til hvordan du selv kan jobbe med aktiv forebygging.
LOCATION:Webinar
END:VEVENT


END:VCALENDAR



