
BEGIN:VCALENDAR
VERSION:2.0
PRODID:-//MarkedsPartner AS//Umbraco CMS//NO
TIMEZONE-ID:Europe/Oslo
X-WR-TIMEZONE:Europe/Oslo


BEGIN:VEVENT
UID:276b2bfd1b5f4397a1400510a12c5fd3
URL:https://umbraco.naeringsforeningen.no/moeter/arkiv/it-nyheter-og-sikkerhet_2023/
ORGANIZER;CN=Ola Normann:MAILTO:ola.normann@markedspartner.no
DTSTAMP:20231004T163000Z
DTSTART:20231004T163000Z
DTEND:20231004T190000Z
LAST-MODIFIED:20231005T080844Z
SUMMARY:IT-kveld med nyheter og sikkerhet i fokus
DESCRIPTION:Er du og din virksomhet det svakeste ledd? Det kan bli veldig kostbart! Bedrifter og offentlige institusjoner som har blitt offer for vellykkede cyberangrep er blitt en vanlig del av nyhetsbildet. Stadig nye verktøy og økt digitalisering gir oss mange fordeler, men gjør oss samtidig mer sårbare og krever derfor større og kontinuerlig fokus på datasikkerhet. Hackerne blir flere og flinkere til å utnytte svakheter og finne det svakeste ledd.
X-ALT-DESC:Er du og din virksomhet det svakeste ledd? Det kan bli veldig kostbart! Bedrifter og offentlige institusjoner som har blitt offer for vellykkede cyberangrep er blitt en vanlig del av nyhetsbildet. Stadig nye verkt&#248;y og &#248;kt digitalisering gir oss mange fordeler, men gj&#248;r oss samtidig mer s&#229;rbare og krever derfor st&#248;rre og kontinuerlig fokus p&#229; datasikkerhet. Hackerne blir flere og flinkere til &#229; utnytte svakheter og finne det svakeste ledd.
LOCATION:Rosenkildehuset, Strandkaien 6, 4005 Stavanger
END:VEVENT


END:VCALENDAR



