
BEGIN:VCALENDAR
VERSION:2.0
PRODID:-//MarkedsPartner AS//Umbraco CMS//NO
TIMEZONE-ID:Europe/Oslo
X-WR-TIMEZONE:Europe/Oslo


BEGIN:VEVENT
UID:944e47d086e942229f4534d90afd2c5c
URL:https://umbraco.naeringsforeningen.no/moeter/arkiv/introduksjonskurs-i-styrearbeid_mai2022/
ORGANIZER;CN=Ola Normann:MAILTO:ola.normann@markedspartner.no
DTSTAMP:20220525T063000Z
DTSTART:20220525T063000Z
DTEND:20220525T100000Z
LAST-MODIFIED:20221031T121821Z
SUMMARY: Introduksjonskurs i styrearbeid
DESCRIPTION:Solid styrearbeid er avgjørende for alle virksomheter; både bedrifter, politikere og organisasjoner.  Dette introduksjonskurset er en god startpakke og gjør deg godt forberedt enten du representerer eierne, de ansatte eller er leder med ansvar for styre oppfølging.
X-ALT-DESC:Solid styrearbeid er avgj&#248;rende for alle virksomheter; b&#229;de bedrifter, politikere og organisasjoner.  Dette introduksjonskurset er en god startpakke og gj&#248;r deg godt forberedt enten du representerer eierne, de ansatte eller er leder med ansvar for styre oppf&#248;lging.
LOCATION:Grand Hotel, Egersund
END:VEVENT


END:VCALENDAR



