
BEGIN:VCALENDAR
VERSION:2.0
PRODID:-//MarkedsPartner AS//Umbraco CMS//NO
TIMEZONE-ID:Europe/Oslo
X-WR-TIMEZONE:Europe/Oslo


BEGIN:VEVENT
UID:c122430ef334453fbbbda13ba83a5f32
URL:https://umbraco.naeringsforeningen.no/moeter/arkiv/introduksjonskurs-i-styrearbeid_2024/
ORGANIZER;CN=Ola Normann:MAILTO:ola.normann@markedspartner.no
DTSTAMP:20240130T073000Z
DTSTART:20240130T073000Z
DTEND:20240130T140000Z
LAST-MODIFIED:20240131T074751Z
SUMMARY:Introduksjonskurs i styrearbeid
DESCRIPTION:Ny som leder, politiker, tillitsvalgt eller nytt styremedlem? Din stemme for eller imot i en sak kan være avgjørende. Bli med på dette styrekurset for å lære mer om styrets rolle, ansvar, samhandling mellom styret og ledelse, og ikke minst hva som er god praksis for styrearbeid.
X-ALT-DESC:Ny som leder, politiker, tillitsvalgt eller nytt styremedlem? Din stemme for eller imot i en sak kan v&#230;re avgj&#248;rende. Bli med p&#229; dette styrekurset for &#229; l&#230;re mer om styrets rolle, ansvar, samhandling mellom styret og ledelse, og ikke minst hva som er god praksis for styrearbeid.
LOCATION:Rosenkildehuset
END:VEVENT


END:VCALENDAR



