
BEGIN:VCALENDAR
VERSION:2.0
PRODID:-//MarkedsPartner AS//Umbraco CMS//NO
TIMEZONE-ID:Europe/Oslo
X-WR-TIMEZONE:Europe/Oslo


BEGIN:VEVENT
UID:c98d3ed488584428a693062910e04158
URL:https://umbraco.naeringsforeningen.no/moeter/arkiv/introduksjonskurs-i-styrearbeid/
ORGANIZER;CN=Ola Normann:MAILTO:ola.normann@markedspartner.no
DTSTAMP:20191024T061500Z
DTSTART:20191024T061500Z
DTEND:20191024T093000Z
LAST-MODIFIED:20221031T113557Z
SUMMARY:Introduksjonskurs i styrearbeid
DESCRIPTION:Solid styrearbeid er avgjørende for alle virksomheter. Vi inviterer deg til et unikt halvdagskurs som gir grunnleggende forståelse for styrearbeid i praksis. Foredragsholderne Gisle Høyland, Sigrun Sagedahl og Njål Skår har alle tre høy kompetanse og lang erfaring.
X-ALT-DESC:Solid styrearbeid er avgj&#248;rende for alle virksomheter. Vi inviterer deg til et unikt halvdagskurs som gir grunnleggende forst&#229;else for styrearbeid i praksis. Foredragsholderne Gisle H&#248;yland, Sigrun Sagedahl og Nj&#229;l Sk&#229;r har alle tre h&#248;y kompetanse og lang erfaring.
LOCATION:H&#248;ghuset p&#229; J&#230;ren
END:VEVENT


END:VCALENDAR



