
BEGIN:VCALENDAR
VERSION:2.0
PRODID:-//MarkedsPartner AS//Umbraco CMS//NO
TIMEZONE-ID:Europe/Oslo
X-WR-TIMEZONE:Europe/Oslo


BEGIN:VEVENT
UID:eebef3b2e43543e38849a3bd046cdd0c
URL:https://umbraco.naeringsforeningen.no/moeter/arkiv/innovasjonstalen2020_170620/
ORGANIZER;CN=Ola Normann:MAILTO:ola.normann@markedspartner.no
DTSTAMP:20200617T110000Z
DTSTART:20200617T110000Z
DTEND:20200617T124500Z
LAST-MODIFIED:20221031T121415Z
SUMMARY:Innovasjonstalen 2020
DESCRIPTION:Er det en region som trenger å posisjonere seg på nye og ukjente områder så er det Rogaland. En stor andel av vårt næringsliv får en tøffere hverdag når olje og gassindustrien reduserer sine investeringer. Igjen må bedriftene i fylket vårt finne nye internasjonale markeder og nye forretningsområder. I Innovasjonstalen 2020 har vi har med oss AKVA Group og  Robot Norge som forteller hvordan de har gjort nettopp det.
X-ALT-DESC:Er det en region som trenger &#229; posisjonere seg p&#229; nye og ukjente omr&#229;der s&#229; er det Rogaland.&#160;En stor andel av v&#229;rt n&#230;ringsliv f&#229;r en t&#248;ffere hverdag n&#229;r olje og gassindustrien reduserer sine investeringer. Igjen m&#229; bedriftene i fylket v&#229;rt finne nye internasjonale markeder og nye forretningsomr&#229;der.&#160;I Innovasjonstalen 2020 har vi har med oss AKVA Group og &#160;Robot Norge&#160;som forteller hvordan de har gjort nettopp det.
LOCATION:
END:VEVENT


END:VCALENDAR



