
BEGIN:VCALENDAR
VERSION:2.0
PRODID:-//MarkedsPartner AS//Umbraco CMS//NO
TIMEZONE-ID:Europe/Oslo
X-WR-TIMEZONE:Europe/Oslo


BEGIN:VEVENT
UID:027307a45cfe4d09a901f5c8bcee348e
URL:https://umbraco.naeringsforeningen.no/moeter/arkiv/innovasjon-og-kultur_201020/
ORGANIZER;CN=Ola Normann:MAILTO:ola.normann@markedspartner.no
DTSTAMP:20201020T063000Z
DTSTART:20201020T063000Z
DTEND:20201020T090000Z
LAST-MODIFIED:20221031T114259Z
SUMMARY:Bedriftskultur og mangfold øker innovasjonen
DESCRIPTION:Overskriften er en forskningsbasert påstand. Hvordan kan du som ansatt eller leder være med å bygge en bedriftskultur som bidrar til økt innovasjon i praksis?
X-ALT-DESC:Overskriften er en forskningsbasert p&#229;stand. Hvordan kan du som ansatt eller leder v&#230;re med &#229; bygge en bedriftskultur som bidrar til &#248;kt innovasjon i praksis?
LOCATION:Rosenkildehuset
END:VEVENT


END:VCALENDAR



