
BEGIN:VCALENDAR
VERSION:2.0
PRODID:-//MarkedsPartner AS//Umbraco CMS//NO
TIMEZONE-ID:Europe/Oslo
X-WR-TIMEZONE:Europe/Oslo


BEGIN:VEVENT
UID:0d5474ef38914d1eab0bbbb94fccb0e3
URL:https://umbraco.naeringsforeningen.no/moeter/arkiv/innholdsso120424/
ORGANIZER;CN=Ola Normann:MAILTO:ola.normann@markedspartner.no
DTSTAMP:20240412T090000Z
DTSTART:20240412T090000Z
DTEND:20240412T110000Z
LAST-MODIFIED:20240412T141324Z
SUMMARY:Slik finner du de gode historiene til sosiale medier
DESCRIPTION:Stavanger Symfoniorkester (SSO) økte sin rekkevidde på Facebook med 124 prosent og på Instagram med 223 prosent – på kun ett år! Bli med og lær hvordan markedsansvarlig Mari Hult og resten av orkesteret gjorde det, hva som er interessant innhold på sosiale medier og hvordan du skaper det.
X-ALT-DESC:Stavanger Symfoniorkester (SSO) &#248;kte sin rekkevidde p&#229; Facebook med 124 prosent og p&#229; Instagram med 223 prosent – p&#229; kun ett &#229;r! Bli med og l&#230;r hvordan markedsansvarlig Mari Hult og resten av orkesteret gjorde det, hva som er interessant innhold p&#229; sosiale medier og hvordan du skaper det.
LOCATION:Fartein Valen, Stavanger Konserthus
END:VEVENT


END:VCALENDAR



