
BEGIN:VCALENDAR
VERSION:2.0
PRODID:-//MarkedsPartner AS//Umbraco CMS//NO
TIMEZONE-ID:Europe/Oslo
X-WR-TIMEZONE:Europe/Oslo


BEGIN:VEVENT
UID:651c1285f49d41f4a2175724bb67e19b
URL:https://umbraco.naeringsforeningen.no/moeter/arkiv/inkluderende-arbeidsliv/
ORGANIZER;CN=Ola Normann:MAILTO:ola.normann@markedspartner.no
DTSTAMP:20200611T153000Z
DTSTART:20200611T153000Z
DTEND:20200611T183000Z
LAST-MODIFIED:20221031T121402Z
SUMMARY:Inkluderingskvelden 2020: De glemte ressursene
DESCRIPTION:Alle mennesker har kompetanse. Alle er ressurser. Forstår vi hvilke ressurser kollegaene våre er, og hvordan vi kan bli bedre sammen? Og hva gjøres egentlig fra politikere og næringsliv for å fremme inkludering i arbeidslivet? Disse spørsmålene tar vi opp på Inkluderingskvelden 2020.
X-ALT-DESC:Alle mennesker har kompetanse. Alle er ressurser. Forst&#229;r vi hvilke ressurser kollegaene v&#229;re er, og hvordan vi kan bli bedre sammen? Og hva gj&#248;res egentlig fra politikere og n&#230;ringsliv for &#229; fremme inkludering i arbeidslivet? Disse sp&#248;rsm&#229;lene tar vi opp p&#229; Inkluderingskvelden 2020.
LOCATION:Rosenkildehuset
END:VEVENT


END:VCALENDAR



