
BEGIN:VCALENDAR
VERSION:2.0
PRODID:-//MarkedsPartner AS//Umbraco CMS//NO
TIMEZONE-ID:Europe/Oslo
X-WR-TIMEZONE:Europe/Oslo


BEGIN:VEVENT
UID:d2c7e82b97ff4adc8637dfcaa7bb1a8c
URL:https://umbraco.naeringsforeningen.no/moeter/arkiv/ingenioerutdanning-dalane_mars2023/
ORGANIZER;CN=Ola Normann:MAILTO:ola.normann@markedspartner.no
DTSTAMP:20230309T100000Z
DTSTART:20230309T100000Z
DTEND:20230309T120000Z
LAST-MODIFIED:20230403T144237Z
SUMMARY:Ingeniørutdanning i Dalane
DESCRIPTION:Undersøkelser gjort av Dalane utdanningssenter viser at det er etterspørsel etter ingeniører i ulike deler av næringslivet i regionen. Tilsvarende undersøkelser er gjort i Listerregionen, som også spør etter ingeniører innen ulike fagretninger. På bakgrunn av dette har de to regionene gått inn i et spennende samarbeid med Universitetet i Agder (UiA) for se på hvordan vi kan legge til rette for en egen fleksibel modell for ingeniørutdanning i distriktene.
X-ALT-DESC:Unders&#248;kelser gjort av Dalane utdanningssenter viser at det er ettersp&#248;rsel etter ingeni&#248;rer i ulike deler av n&#230;ringslivet i regionen. Tilsvarende unders&#248;kelser er gjort i Listerregionen, som ogs&#229; sp&#248;r etter ingeni&#248;rer innen ulike fagretninger. P&#229; bakgrunn av dette har de to regionene g&#229;tt inn i et spennende samarbeid med Universitetet i Agder (UiA) for se p&#229; hvordan vi kan legge til rette for en egen fleksibel modell for ingeni&#248;rutdanning i distriktene.
LOCATION:Grand Hotell, Egersund
END:VEVENT


END:VCALENDAR



