
BEGIN:VCALENDAR
VERSION:2.0
PRODID:-//MarkedsPartner AS//Umbraco CMS//NO
TIMEZONE-ID:Europe/Oslo
X-WR-TIMEZONE:Europe/Oslo


BEGIN:VEVENT
UID:b9936c98da7f42ed80bde73f0a366d9f
URL:https://umbraco.naeringsforeningen.no/moeter/arkiv/india_mars-2022/
ORGANIZER;CN=Ola Normann:MAILTO:ola.normann@markedspartner.no
DTSTAMP:20220316T120000Z
DTSTART:20220316T120000Z
DTEND:20220316T140000Z
LAST-MODIFIED:20221031T122819Z
SUMMARY:India the land of Opportunity, Growth and Openness
DESCRIPTION:India is a powerhouse of talent and is making many advances in the world of technology, research and innovation. The economic growth is powered by a combination of legacy industries and start-ups.
X-ALT-DESC:India is a powerhouse of talent and is making many advances in the world of technology, research and innovation. The economic growth is powered by a combination of legacy industries and start-ups.
LOCATION:Rosenkildehuset, Strandkaien 6, 4005 Stavanger
END:VEVENT


END:VCALENDAR



