
BEGIN:VCALENDAR
VERSION:2.0
PRODID:-//MarkedsPartner AS//Umbraco CMS//NO
TIMEZONE-ID:Europe/Oslo
X-WR-TIMEZONE:Europe/Oslo


BEGIN:VEVENT
UID:2a643ca387d849d48eaae7919e2b9c9f
URL:https://umbraco.naeringsforeningen.no/moeter/arkiv/hydrogen-energisk-fremtid_280820/
ORGANIZER;CN=Ola Normann:MAILTO:ola.normann@markedspartner.no
DTSTAMP:20200828T063000Z
DTSTART:20200828T063000Z
DTEND:20200828T093000Z
LAST-MODIFIED:20221031T113812Z
SUMMARY:Kan Rogaland bli et hydrogenfylke?
DESCRIPTION:Økt produksjon og bruk av hydrogen kan gi nye arbeidsplasser og store miljøgevinster. Hvordan kan vi utnytte mulighetene her i Rogaland?
X-ALT-DESC:&#216;kt produksjon og bruk av hydrogen kan gi nye arbeidsplasser og store milj&#248;gevinster. Hvordan kan vi utnytte mulighetene her i Rogaland?
LOCATION:Rosenkildehuset
END:VEVENT


END:VCALENDAR



