
BEGIN:VCALENDAR
VERSION:2.0
PRODID:-//MarkedsPartner AS//Umbraco CMS//NO
TIMEZONE-ID:Europe/Oslo
X-WR-TIMEZONE:Europe/Oslo


BEGIN:VEVENT
UID:3640811ae8c64f1799f961cff28b8efd
URL:https://umbraco.naeringsforeningen.no/moeter/arkiv/hva-betyr-valget-for-din-bedrift/
ORGANIZER;CN=Ola Normann:MAILTO:ola.normann@markedspartner.no
DTSTAMP:20230915T110000Z
DTSTART:20230915T110000Z
DTEND:20230915T114500Z
LAST-MODIFIED:20230919T101639Z
SUMMARY:Vi møter valgets vinnere og tapere
DESCRIPTION:SE SENDINGEN: Vi møter påtroppende ordførere og opposisjonen i regionen direkte fra studioet vårt på Rosenkildehuset. Harald Minge og Tormod Andreassen skal få svar på hva valgresultatene betyr for deg og din bedrift.
X-ALT-DESC:SE SENDINGEN: Vi m&#248;ter p&#229;troppende ordf&#248;rere og opposisjonen i regionen direkte fra studioet v&#229;rt p&#229; Rosenkildehuset. Harald Minge og Tormod Andreassen skal f&#229; svar p&#229; hva valgresultatene betyr for deg og din bedrift.
LOCATION:Digitalt
END:VEVENT


END:VCALENDAR



