
BEGIN:VCALENDAR
VERSION:2.0
PRODID:-//MarkedsPartner AS//Umbraco CMS//NO
TIMEZONE-ID:Europe/Oslo
X-WR-TIMEZONE:Europe/Oslo


BEGIN:VEVENT
UID:29fd7b147ae746258aabbd1787f22e60
URL:https://umbraco.naeringsforeningen.no/moeter/arkiv/hun-spanderer/
ORGANIZER;CN=Ola Normann:MAILTO:ola.normann@markedspartner.no
DTSTAMP:20190905T163000Z
DTSTART:20190905T163000Z
DTEND:20190905T210000Z
LAST-MODIFIED:20221031T113423Z
SUMMARY:Mangfold = Verdiskapning
DESCRIPTION:Velkommen til en inspirerende kveld med fokus på mangfold og verdiskapning med gode diskusjoner av blant andre grunnleggerne fra "Hun Spanderer" og Equality Check, Isabelle Ringnes og Marie Louise Sunde.
X-ALT-DESC:Velkommen til en inspirerende kveld med fokus p&#229; mangfold og verdiskapning med gode diskusjoner av blant andre grunnleggerne fra &quot;Hun Spanderer&quot; og Equality Check, Isabelle Ringnes og Marie Louise Sunde.
LOCATION:Atlantic Hall
END:VEVENT


END:VCALENDAR



