
BEGIN:VCALENDAR
VERSION:2.0
PRODID:-//MarkedsPartner AS//Umbraco CMS//NO
TIMEZONE-ID:Europe/Oslo
X-WR-TIMEZONE:Europe/Oslo


BEGIN:VEVENT
UID:7db77d2b514d4f23aa4507153e1e5489
URL:https://umbraco.naeringsforeningen.no/moeter/arkiv/hr-moete_feb2025/
ORGANIZER;CN=Ola Normann:MAILTO:ola.normann@markedspartner.no
DTSTAMP:20250211T090000Z
DTSTART:20250211T090000Z
DTEND:20250211T100000Z
LAST-MODIFIED:20250211T133552Z
SUMMARY:Mangfold i rekruttering: Nøkkelen til å lykkes
DESCRIPTION:Få nøkkelen til å lykkes med  innsikt og konkrete verktøy for å rekruttere internasjonale talenter på en effektiv og inkluderende måte.
X-ALT-DESC:F&#229; n&#248;kkelen til &#229; lykkes med  innsikt og konkrete verkt&#248;y for &#229; rekruttere internasjonale talenter p&#229; en effektiv og inkluderende m&#229;te.
LOCATION:
END:VEVENT


END:VCALENDAR



