
BEGIN:VCALENDAR
VERSION:2.0
PRODID:-//MarkedsPartner AS//Umbraco CMS//NO
TIMEZONE-ID:Europe/Oslo
X-WR-TIMEZONE:Europe/Oslo


BEGIN:VEVENT
UID:8d2a74de75cf4e8bbac97b6b05773bf8
URL:https://umbraco.naeringsforeningen.no/moeter/arkiv/hoeydepunkter-fra-cannes-lions/
ORGANIZER;CN=Ola Normann:MAILTO:ola.normann@markedspartner.no
DTSTAMP:20200109T070000Z
DTSTART:20200109T070000Z
DTEND:20200109T090000Z
LAST-MODIFIED:20221031T115816Z
SUMMARY:Cannes Lions: Verdens mest kreative løver kommer til Stavanger
DESCRIPTION:Hvert år arrangeres Cannes Lions på den franske rivieraen og er det nærmeste man kommer et VM i kreativitet. Det blir sendt inn over 30.000 bidrag i 26 forskjellige kategorier før verdens mest kreative kampanjer blir kåret.
X-ALT-DESC:Hvert &#229;r arrangeres Cannes Lions p&#229; den franske rivieraen og er det n&#230;rmeste man kommer et VM i kreativitet. Det blir sendt inn over 30.000 bidrag i 26 forskjellige kategorier f&#248;r verdens mest kreative kampanjer blir k&#229;ret.
LOCATION:ODEON Kino Stavanger
END:VEVENT


END:VCALENDAR



