
BEGIN:VCALENDAR
VERSION:2.0
PRODID:-//MarkedsPartner AS//Umbraco CMS//NO
TIMEZONE-ID:Europe/Oslo
X-WR-TIMEZONE:Europe/Oslo


BEGIN:VEVENT
UID:039c8f8419dc45138649c6a9500cd082
URL:https://umbraco.naeringsforeningen.no/moeter/arkiv/high-wind-2023-conference/
ORGANIZER;CN=Ola Normann:MAILTO:ola.normann@markedspartner.no
DTSTAMP:20230314T073000Z
DTSTART:20230314T073000Z
DTEND:20230314T150000Z
LAST-MODIFIED:20230316T152339Z
SUMMARY:HIGH WIND 2023 - presentations
DESCRIPTION:Thank you for attending the High Wind 2023 conference. We hope you have had fruitful discussions, met interesting people and acquired valuable insight into how offshore wind fits into the energy transition.
Presentations below.
X-ALT-DESC:Thank you for attending the High Wind 2023 conference. We hope you have had fruitful discussions, met interesting people and acquired valuable insight into how offshore wind fits into the energy transition.
Presentations below.
LOCATION:Clarion Energy, Ishockeyveien 2, 4021 Stavanger
END:VEVENT


END:VCALENDAR



