
BEGIN:VCALENDAR
VERSION:2.0
PRODID:-//MarkedsPartner AS//Umbraco CMS//NO
TIMEZONE-ID:Europe/Oslo
X-WR-TIMEZONE:Europe/Oslo


BEGIN:VEVENT
UID:a10a6e0e857a48b99b7c6e7ab1219e9b
URL:https://umbraco.naeringsforeningen.no/moeter/arkiv/hagefest/
ORGANIZER;CN=Ola Normann:MAILTO:ola.normann@markedspartner.no
DTSTAMP:20190822T140000Z
DTSTART:20190822T140000Z
DTEND:20190822T190000Z
LAST-MODIFIED:20240902T103014Z
SUMMARY:Hagefest
DESCRIPTION:Velkommen til hagefest for en utvidet finans- og eiendomsbransje i hagen i Olavskleivå 26. Vi inviterer gode venner til en ettermiddag og kveld i sentrale og flotte omgivelser.
X-ALT-DESC:Velkommen til hagefest for en utvidet finans- og eiendomsbransje i hagen i Olavskleiv&#229; 26. Vi inviterer gode venner til en ettermiddag og kveld i sentrale og flotte omgivelser.
LOCATION:Olavskleiv&#229; 26, Det Stavangerske Klubselskab
END:VEVENT


END:VCALENDAR



