
BEGIN:VCALENDAR
VERSION:2.0
PRODID:-//MarkedsPartner AS//Umbraco CMS//NO
TIMEZONE-ID:Europe/Oslo
X-WR-TIMEZONE:Europe/Oslo


BEGIN:VEVENT
UID:9b3c602b400d462e8f0114a5b218d6f8
URL:https://umbraco.naeringsforeningen.no/moeter/arkiv/h2-reception_2024/
ORGANIZER;CN=Ola Normann:MAILTO:ola.normann@markedspartner.no
DTSTAMP:20240828T163000Z
DTSTART:20240828T163000Z
DTEND:20240828T183000Z
LAST-MODIFIED:20240829T101342Z
SUMMARY:H2 Reception
DESCRIPTION:We are excited to invite you to the promotional event for the second edition of the H2 Conference Norway, which is set for September 9th, 2025. Building on the success of the inaugural 2023 conference in Stavanger, we aim to further our mission of fostering international collaboration and innovation in the hydrogen sector.
X-ALT-DESC:We are excited to invite you to the promotional event for the second edition of the H2 Conference Norway, which is set for September 9th, 2025. Building on the success of the inaugural 2023 conference in Stavanger, we aim to further our mission of fostering international collaboration and innovation in the hydrogen sector.
LOCATION:Rosenkildehuset, Strandkaien 6, 4005 Stavanger
END:VEVENT


END:VCALENDAR



