
BEGIN:VCALENDAR
VERSION:2.0
PRODID:-//MarkedsPartner AS//Umbraco CMS//NO
TIMEZONE-ID:Europe/Oslo
X-WR-TIMEZONE:Europe/Oslo


BEGIN:VEVENT
UID:399e2a381585444d86e229476982b311
URL:https://umbraco.naeringsforeningen.no/moeter/arkiv/h2-conference_2023/
ORGANIZER;CN=Ola Normann:MAILTO:ola.normann@markedspartner.no
DTSTAMP:20230907T063000Z
DTSTART:20230907T063000Z
DTEND:20230907T170000Z
LAST-MODIFIED:20230908T114147Z
SUMMARY:H2 Conference Norway  Sep 7th (8th)
DESCRIPTION:The international conference gathering leading voices and decision makers discussing the goals, strategies and framework needed for the development of hydrogen value chains.
X-ALT-DESC:The international conference gathering leading voices and decision makers discussing the goals, strategies and framework needed for the development of hydrogen value chains.
LOCATION:Clarion Hotel Stavanger
END:VEVENT


END:VCALENDAR



