
BEGIN:VCALENDAR
VERSION:2.0
PRODID:-//MarkedsPartner AS//Umbraco CMS//NO
TIMEZONE-ID:Europe/Oslo
X-WR-TIMEZONE:Europe/Oslo


BEGIN:VEVENT
UID:6a9f076e457f4efca52c88e6ca237f5a
URL:https://umbraco.naeringsforeningen.no/moeter/arkiv/h2-conference2025/
ORGANIZER;CN=Ola Normann:MAILTO:ola.normann@markedspartner.no
DTSTAMP:20250911T063000Z
DTSTART:20250911T063000Z
DTEND:20250911T170000Z
LAST-MODIFIED:20250912T111541Z
SUMMARY:H2 Conference 2025
DESCRIPTION:Hydrogen is said to be one of the key components needed to really succeed with the energy transition. The international conference gathering leading voices and decision makers discussing the goals, strategies and framework needed for the development of hydrogen value chains.
X-ALT-DESC:Hydrogen is said to be one of the key components needed to really succeed with the energy transition. The international conference gathering leading voices and decision makers discussing the goals, strategies and framework needed for the development of hydrogen value chains.
LOCATION:Clarion Kleiva
END:VEVENT


END:VCALENDAR



