
BEGIN:VCALENDAR
VERSION:2.0
PRODID:-//MarkedsPartner AS//Umbraco CMS//NO
TIMEZONE-ID:Europe/Oslo
X-WR-TIMEZONE:Europe/Oslo


BEGIN:VEVENT
UID:7ca0d2c62bf74e4991d20b107d2cf912
URL:https://umbraco.naeringsforeningen.no/moeter/arkiv/grunnleggende-regnskapsforstaaelse_2024/
ORGANIZER;CN=Ola Normann:MAILTO:ola.normann@markedspartner.no
DTSTAMP:20240125T073000Z
DTSTART:20240125T073000Z
DTEND:20240125T103000Z
LAST-MODIFIED:20240125T130612Z
SUMMARY:Grunnleggende regnskapsforståelse
DESCRIPTION:Ønsker du å lære deg hvordan du raskt og effektivt leser et regnskap? Lær deg de beste triksene når vi får besøk fra Kallesten Revisjon og Regnskap.
X-ALT-DESC:&#216;nsker du &#229; l&#230;re deg hvordan du raskt og effektivt leser et regnskap? L&#230;r deg de beste triksene n&#229;r vi f&#229;r bes&#248;k fra Kallesten Revisjon og Regnskap.
LOCATION:Rosenkildehuset, Stavanger.
END:VEVENT


END:VCALENDAR



