
BEGIN:VCALENDAR
VERSION:2.0
PRODID:-//MarkedsPartner AS//Umbraco CMS//NO
TIMEZONE-ID:Europe/Oslo
X-WR-TIMEZONE:Europe/Oslo


BEGIN:VEVENT
UID:f5eeb9fe27244e75adf118a3ed5ad9b3
URL:https://umbraco.naeringsforeningen.no/moeter/arkiv/grunnleggende-regnskapsforstaaelse_180620/
ORGANIZER;CN=Ola Normann:MAILTO:ola.normann@markedspartner.no
DTSTAMP:20200618T090000Z
DTSTART:20200618T090000Z
DTEND:20200618T101500Z
LAST-MODIFIED:20221031T121432Z
SUMMARY:Webinar: Grunnleggende regnskapsforståelse
DESCRIPTION:Ønsker du å lære deg hvordan du raskt og effektivt leser et regnskap? Lær deg de beste triksene når vi får besøk fra Marianne Versland Bjorland i Deloitte.
X-ALT-DESC:&#216;nsker du &#229; l&#230;re deg hvordan du raskt og effektivt leser et regnskap? L&#230;r deg de beste triksene n&#229;r vi f&#229;r bes&#248;k fra Marianne Versland Bjorland i Deloitte.
LOCATION:webinar
END:VEVENT


END:VCALENDAR



