
BEGIN:VCALENDAR
VERSION:2.0
PRODID:-//MarkedsPartner AS//Umbraco CMS//NO
TIMEZONE-ID:Europe/Oslo
X-WR-TIMEZONE:Europe/Oslo


BEGIN:VEVENT
UID:29b006144bd345c1a2d4892b2a72a921
URL:https://umbraco.naeringsforeningen.no/moeter/arkiv/grunnleggende-regnskapsforstaaelse/
ORGANIZER;CN=Ola Normann:MAILTO:ola.normann@markedspartner.no
DTSTAMP:20191119T073000Z
DTSTART:20191119T073000Z
DTEND:20191119T110000Z
LAST-MODIFIED:20221031T114351Z
SUMMARY:Grunnleggende regnskapsforståelse 
DESCRIPTION:Basic regnskapsforståelse for å kunne lese, forstå og analysere et bedriftsregnskap er viktig.  Hvis du er ny i rollen i et styreverv, leder med et økonomisk ansvar, eller kort og godt ønsker å lære mer om hvordan du raskt kan forstå et regnskap, bør du delta her.
X-ALT-DESC:Basic regnskapsforst&#229;else for &#229; kunne lese, forst&#229; og analysere et bedriftsregnskap er viktig.  Hvis du er ny i rollen i et styreverv, leder med et &#248;konomisk ansvar, eller kort og godt &#248;nsker &#229; l&#230;re mer om hvordan du raskt kan forst&#229; et regnskap, b&#248;r du delta her.
LOCATION:Rosenkildehuset
END:VEVENT


END:VCALENDAR



