
BEGIN:VCALENDAR
VERSION:2.0
PRODID:-//MarkedsPartner AS//Umbraco CMS//NO
TIMEZONE-ID:Europe/Oslo
X-WR-TIMEZONE:Europe/Oslo


BEGIN:VEVENT
UID:b1b43cdafff74d1aaf2f214af5db3114
URL:https://umbraco.naeringsforeningen.no/moeter/arkiv/groenne-stoetteordninger_261120/
ORGANIZER;CN=Ola Normann:MAILTO:ola.normann@markedspartner.no
DTSTAMP:20201126T100000Z
DTSTART:20201126T100000Z
DTEND:20201126T110000Z
LAST-MODIFIED:20221031T115425Z
SUMMARY:En milliard til samarbeid om grønne løsninger – noe for din bedrift?
DESCRIPTION:DIGITALKONFERANSE: Grønne støtteordninger til morgendagens arbeidsliv. Regjeringen bevilger penger til forskning, teknologiutvikling og sirkulærøkonomi.
X-ALT-DESC:DIGITALKONFERANSE: Gr&#248;nne st&#248;tteordninger til morgendagens arbeidsliv. Regjeringen bevilger penger til forskning, teknologiutvikling og sirkul&#230;r&#248;konomi.
LOCATION:Online
END:VEVENT


END:VCALENDAR



